BEGIN:VCALENDAR
VERSION:2.0
PRODID:-//Library Market//iCal Export//EN
BEGIN:VEVENT
SUMMARY:Pets UnLonely: Pet Story
UID:45972
DTSTAMP:20260423T074400Z
DTSTART:20260508T153000Z
DTEND:20260508T170000Z
LOCATION:La Crosse Public Library, 800 Main Street, La Crosse, WI 54601, U
 nited States
ROOM: CREATE Lab (Second Floor)
DESCRIPTION:Join a free, fun Pet Story workshop to connect with other pet 
 parents and celebrate your current pet through color-based creative activi
 ties! Enjoy one hour of mindfulness, creative making, and conversation. No
  art skills required. Supplies are provided! Best for Adults
URL:https://www.lacrosselibrary.org/event/create-lab-45972
END:VEVENT
END:VCALENDAR
