BEGIN:VCALENDAR
VERSION:2.0
PRODID:-//Library Market//iCal Export//EN
BEGIN:VEVENT
SUMMARY:Pets UnLonely: Celebration of Life
UID:45975
DTSTAMP:20260423T080500Z
DTSTART:20260512T030000Z
DTEND:20260512T043000Z
LOCATION:La Crosse Public Library, 800 Main Street, La Crosse, WI 54601, U
 nited States
ROOM: CREATE Lab (Second Floor)
DESCRIPTION:Join a free, fun, and uplifting Pets UnLonely: Celebration of 
 Life workshop to connect with other pet parents and celebrate your past pe
 t through colorbased creative activities! Enjoy one hour of mindfulness, 
 creative making, and conversation. No art skills required. Supplies are pr
 ovided! Best for Adults 
URL:https://www.lacrosselibrary.org/event/create-lab-place-holder-45975
END:VEVENT
END:VCALENDAR
